BEGIN:VCALENDAR
VERSION:2.0
PRODID:-//Code Kids Robotics
CALSCALE:GREGORIAN
METHOD:PUBLISH
X-WR-CALNAME:Code Kids Robotics
X-ORIGINAL-URL:https://canterbury.codekids.org/product/little-coders-5-easter-holiday-camp-7th-april-8th-april-2026/
X-WR-CALDESC:Little Coders (5+) &#8211; Easter Holiday Camp (7th April &#8211; 8th April 2026) (SOLD OUT!)
BEGIN:VEVENT
DTSTART:20260407T100000
DTEND:20260408T150000
SUMMARY:Little Coders (5+) &#8211; Easter Holiday Camp (7th April &#8211; 8th April 2026) (SOLD OUT!)
DESCRIPTION:<span style="color: #000000;">In this tech camp (individual days can also be booked), children will learn about robotics and coding through the use of various robots to grasp key programming and engineering concepts in a fun learning environment.</span>

<span style="color: #000000;"><strong>The workshops are as follows:</strong></span>

<span style="color: #000000;">[table id=118 /]</span>

<span style="color: #000000;"><strong>Where:</strong> Junior King's school, Milner Court, Sturry, Canterbury CT2 0AY</span>

<span style="color: #000000;"><strong>What to bring:</strong> Nut-free packed lunch, refillable water bottle</span>

<span style="color: #000000;"><strong>Age Requirement:</strong> 5 - 7</span>

<span style="color: #000000;">No prior coding experience necessary. If your child has been to one of these workshops before, then their learning will be extended further and they will not have to repeat the same content as before.</span>

&nbsp;
URL:https://canterbury.codekids.org/product/little-coders-5-easter-holiday-camp-7th-april-8th-april-2026/
LOCATION:Junior King's school, Milner Court, Sturry, Canterbury CT2 0AY
END:VEVENT
END:VCALENDAR
