BEGIN:VCALENDAR
VERSION:2.0
PRODID:-//Code Kids Robotics
CALSCALE:GREGORIAN
METHOD:PUBLISH
X-WR-CALNAME:Code Kids Robotics
X-ORIGINAL-URL:https://canterbury.codekids.org/product/python-level-2-canterbury-python-coding-oct-ht-holiday-camp-28th-oct-1st-nov-2024/
X-WR-CALDESC:Python Level-2, Canterbury Python Coding , Oct HT Holiday Camp (28th Oct &#8211; 1st Nov 2024)
BEGIN:VEVENT
DTSTART:20241028T100000
DTEND:20241101T150000
SUMMARY:Python Level-2, Canterbury Python Coding , Oct HT Holiday Camp (28th Oct &#8211; 1st Nov 2024)
DESCRIPTION:Python Coding 2 is suitable for students who have either completed our Python Coding 1 course or who have experience coding in Python. It is designed for late primary to secondary aged students who are looking to take their Python programming skills to the next level.

Python 2 builds on the principles covered in Python 1 and covers object oriented programming in greater depth. Children will start to use popular Python libraries such as Pandas, Skikit for machine learning, and PyGame. We will also explore web development techniques using Python libraries such as Django.

The objective of the Python 2 course is to help children become confident and independent programmers.
<ul>
 	<li>Learn Python syntax (structure)</li>
 	<li>Object oriented programming</li>
 	<li>Use loops and conditionals (IF/THEN/ELSE)</li>
 	<li>Understand variables (number, Boolean, string)</li>
 	<li>Create and use functions</li>
 	<li>Graphics and web design frameworks</li>
 	<li>Data science and machine learning techniques</li>
</ul>
<h4 data-fontsize="18" data-lineheight="27"><strong>Python Coding -2 Timetable:</strong></h4>
[table id=38 /]

Challenges may vary depending on the child’s age/ability as we have multiple streams running within each session.

<strong>What you would need</strong>

A computer with Python (Python 3.7 or above from <a href="https://www.python.org/downloads/">www.python.org</a>)

<strong>Age Requirement: </strong>10+

<strong>System Requirements</strong>

A computer (PC or Mac).

<strong>Pre-requisite:</strong>

Completed Python 1 or a Python holiday camp with Code Kids, or prior significant experience in Python.
URL:https://canterbury.codekids.org/product/python-level-2-canterbury-python-coding-oct-ht-holiday-camp-28th-oct-1st-nov-2024/
LOCATION:The King's School International College, The Malthouse, Canterbury CT2 7JA
END:VEVENT
END:VCALENDAR
